BEGIN:VCALENDAR
VERSION:2.0
PRODID:-//Xtratight Entertainment - ECPv6.15.12.2//NONSGML v1.0//EN
CALSCALE:GREGORIAN
METHOD:PUBLISH
X-WR-CALNAME:Xtratight Entertainment
X-ORIGINAL-URL:https://xtratight.com
X-WR-CALDESC:Events for Xtratight Entertainment
REFRESH-INTERVAL;VALUE=DURATION:PT1H
X-Robots-Tag:noindex
X-PUBLISHED-TTL:PT1H
BEGIN:VTIMEZONE
TZID:America/Marigot
BEGIN:STANDARD
TZOFFSETFROM:-0400
TZOFFSETTO:-0400
TZNAME:AST
DTSTART:20240101T000000
END:STANDARD
END:VTIMEZONE
BEGIN:VEVENT
DTSTART;TZID=America/Marigot:20250601T110000
DTEND;TZID=America/Marigot:20250601T160000
DTSTAMP:20260423T202532
CREATED:20250511T025831Z
LAST-MODIFIED:20250511T025831Z
UID:2136-1748775600-1748793600@xtratight.com
SUMMARY:The Brunch "Soul Edition"
DESCRIPTION:The Brunch is back—Soul Edition!After the success of the first Reggae Brunch\, join us on Saturday\, June 1st for a soulful afternoon of good vibes\, smooth tunes\, and great company. Enjoy a mouthwatering menu catered by Ms. Patts “Home Cooked Cuisine With Distictive Flavor”. Come for the food\, stay for the soul!
URL:https://xtratight.com/event/the-brunch-soul-edition/
LOCATION:ALEEZE Convention Center\, 117 A.T. Illidge Rd\, Philipsburg\, Sint Maarten
CATEGORIES:Brunch
ATTACH;FMTTYPE=image/jpeg:https://xtratight.com/wp-content/uploads/2025/05/495558103_1234264425371904_8844707043166485302_n.jpg
ORGANIZER;CN="Xtratight Entertainment":MAILTO:events@xtratight.com
END:VEVENT
BEGIN:VEVENT
DTSTART;TZID=America/Marigot:20250323T110000
DTEND;TZID=America/Marigot:20250323T160000
DTSTAMP:20260423T202532
CREATED:20250306T095008Z
LAST-MODIFIED:20250307T111838Z
UID:2060-1742727600-1742745600@xtratight.com
SUMMARY:The Brunch "Reggae Edition"
DESCRIPTION:Get ready for the ultimate reggae-infused brunch experience on March 23rd! Brunch Reggae Edition brings together good food\, great vibes\, and unlimited mimosas for a laid-back yet energetic celebration. \n🎶 Music By: The one and only CD Rankin\, setting the perfect reggae mood with smooth riddims and classic hits! \n🥂 Unlimited Mimosas to keep the vibes flowing!\n🍽️ Delicious Brunch Selections to satisfy your cravings! \nGather your crew and sip\, vibe\, and brunch to the best reggae tunes! 🌞🎶🥂 \nLimited spots available – book now! 
URL:https://xtratight.com/event/the-brunch-reggae-edition/
LOCATION:ALEEZE Convention Center\, 117 A.T. Illidge Rd\, Philipsburg\, Sint Maarten
CATEGORIES:Brunch
ATTACH;FMTTYPE=image/jpeg:https://xtratight.com/wp-content/uploads/2025/03/pexels-photo-2662875-2662875.jpg
ORGANIZER;CN="Xtratight Entertainment":MAILTO:events@xtratight.com
END:VEVENT
END:VCALENDAR