BEGIN:VCALENDAR
VERSION:2.0
PRODID:-//Xtratight Entertainment - ECPv6.15.12.2//NONSGML v1.0//EN
CALSCALE:GREGORIAN
METHOD:PUBLISH
X-WR-CALNAME:Xtratight Entertainment
X-ORIGINAL-URL:https://xtratight.com
X-WR-CALDESC:Events for Xtratight Entertainment
REFRESH-INTERVAL;VALUE=DURATION:PT1H
X-Robots-Tag:noindex
X-PUBLISHED-TTL:PT1H
BEGIN:VTIMEZONE
TZID:America/Marigot
BEGIN:STANDARD
TZOFFSETFROM:-0400
TZOFFSETTO:-0400
TZNAME:AST
DTSTART:20210101T000000
END:STANDARD
END:VTIMEZONE
BEGIN:VEVENT
DTSTART;TZID=America/Marigot:20220428T200000
DTEND;TZID=America/Marigot:20220429T010000
DTSTAMP:20260423T234713
CREATED:20220205T231223Z
LAST-MODIFIED:20220205T231223Z
UID:1675-1651176000-1651194000@xtratight.com
SUMMARY:The Groove
DESCRIPTION:TelEm in collaboration with Xtratight Entertainment is proud to present\, “The Groove”\, a new Groovy Soca Competition to be held during St. Maarten carnival. The Groove winner will receive TEN THOUSAND US DOLLARS accompanied with a professional MUSIC VIDEO for the winning song.
URL:https://xtratight.com/event/the-groove/
LOCATION:Jocelyn Arrindell Festival Village\, Soualiga Road\, Philipsburg\, Sint Maarten
CATEGORIES:Competition
ATTACH;FMTTYPE=image/jpeg:https://xtratight.com/wp-content/uploads/2022/01/THE-GOOVE-TOP-BANNER-3.jpg
ORGANIZER;CN="Xtratight Entertainment":MAILTO:events@xtratight.com
END:VEVENT
END:VCALENDAR