BEGIN:VCALENDAR
VERSION:2.0
PRODID:-//Xtratight Entertainment - ECPv6.15.12.2//NONSGML v1.0//EN
CALSCALE:GREGORIAN
METHOD:PUBLISH
X-ORIGINAL-URL:https://xtratight.com
X-WR-CALDESC:Events for Xtratight Entertainment
REFRESH-INTERVAL;VALUE=DURATION:PT1H
X-Robots-Tag:noindex
X-PUBLISHED-TTL:PT1H
BEGIN:VTIMEZONE
TZID:America/Marigot
BEGIN:STANDARD
TZOFFSETFROM:-0400
TZOFFSETTO:-0400
TZNAME:AST
DTSTART:20230101T000000
END:STANDARD
END:VTIMEZONE
BEGIN:VEVENT
DTSTART;TZID=America/Marigot:20251004T210000
DTEND;TZID=America/Marigot:20251005T030000
DTSTAMP:20260423T145142
CREATED:20250716T125635Z
LAST-MODIFIED:20250716T131206Z
UID:2194-1759611600-1759633200@xtratight.com
SUMMARY:Oswald In Concert
DESCRIPTION:Step into Oswald’s universe like never before an electrifying\, intimate performance that fuses timeless Kompa classics with bold new sounds. From his humble beginnings in Sint Maarten to his rise on international stages\, experience the rhythm\, the passion\, and the story behind the music.
URL:https://xtratight.com/event/oswald-in-concert/
LOCATION:ALEEZE Convention Center\, 117 A.T. Illidge Rd\, Philipsburg\, Sint Maarten
CATEGORIES:Concert
ATTACH;FMTTYPE=image/jpeg:https://xtratight.com/wp-content/uploads/2025/07/Easol-Hero-Template-1920x1080-1.jpg
ORGANIZER;CN="Xtratight Entertainment":MAILTO:events@xtratight.com
END:VEVENT
BEGIN:VEVENT
DTSTART;TZID=America/Marigot:20250927T190000
DTEND;TZID=America/Marigot:20250928T000000
DTSTAMP:20260423T145142
CREATED:20250822T232358Z
LAST-MODIFIED:20250822T232358Z
UID:2225-1758999600-1759017600@xtratight.com
SUMMARY:CHAYAH - Soul Cry "Kings In Concert"
DESCRIPTION:A night of pure musical excellence awaits! \nStep into an unforgettable experience where passion meets performance. Soul Cry: Kings In Concert brings together powerful voices and captivating melodies that speak directly to the heart. This is more than a concert\, it’s a journey through sound\, soul\, and spirit. \nExpect an evening filled with world class artistry\, emotional depth\, and music that transcends boundaries leaving you inspired\, uplifted\, and moved.
URL:https://xtratight.com/event/chayah-soul-cry-kings-in-concert/
LOCATION:ALEEZE Convention Center\, 117 A.T. Illidge Rd\, Philipsburg\, Sint Maarten
CATEGORIES:Concert
ATTACH;FMTTYPE=image/png:https://xtratight.com/wp-content/uploads/2025/08/Easol-Hero-Chayah-1920x1080-1.png
ORGANIZER;CN="Xtratight Entertainment":MAILTO:events@xtratight.com
END:VEVENT
BEGIN:VEVENT
DTSTART;TZID=America/Marigot:20240713T083000
DTEND;TZID=America/Marigot:20240714T030000
DTSTAMP:20260423T145142
CREATED:20240522T095707Z
LAST-MODIFIED:20240522T095707Z
UID:1924-1720859400-1720926000@xtratight.com
SUMMARY:VAYB In Concert
DESCRIPTION:Kompa sensation VAYB former lead singer of the band CARIMI will give a concert filled with grooves and energy for all the  music lovers.
URL:https://xtratight.com/event/vayb-in-concert/
LOCATION:ALEEZE Convention Center\, 117 A.T. Illidge Rd\, Philipsburg\, Sint Maarten
CATEGORIES:Concert
ATTACH;FMTTYPE=image/jpeg:https://xtratight.com/wp-content/uploads/2024/05/Vayb-In-Concert-Social-Media.jpg
ORGANIZER;CN="Xtratight Entertainment":MAILTO:events@xtratight.com
END:VEVENT
BEGIN:VEVENT
DTSTART;TZID=America/Marigot:20240413T210000
DTEND;TZID=America/Marigot:20240414T010000
DTSTAMP:20260423T145142
CREATED:20240322T103447Z
LAST-MODIFIED:20240322T103447Z
UID:1868-1713042000-1713056400@xtratight.com
SUMMARY:Jazz N' Rhythms Concert
DESCRIPTION:Jazz Convert
URL:https://xtratight.com/event/jazz-n-rhythms-concert/
LOCATION:ALEEZE Convention Center\, 117 A.T. Illidge Rd\, Philipsburg\, Sint Maarten
CATEGORIES:Concert
ATTACH;FMTTYPE=image/jpeg:https://xtratight.com/wp-content/uploads/2024/03/Jazz_Flyer-Social-MEdia-F1.jpg
ORGANIZER;CN="Xtratight Entertainment":MAILTO:events@xtratight.com
END:VEVENT
END:VCALENDAR