BEGIN:VCALENDAR
VERSION:2.0
PRODID:-//Xtratight Entertainment - ECPv6.15.12.2//NONSGML v1.0//EN
CALSCALE:GREGORIAN
METHOD:PUBLISH
X-ORIGINAL-URL:https://xtratight.com
X-WR-CALDESC:Events for Xtratight Entertainment
REFRESH-INTERVAL;VALUE=DURATION:PT1H
X-Robots-Tag:noindex
X-PUBLISHED-TTL:PT1H
BEGIN:VTIMEZONE
TZID:America/Marigot
BEGIN:STANDARD
TZOFFSETFROM:-0400
TZOFFSETTO:-0400
TZNAME:AST
DTSTART:20240101T000000
END:STANDARD
END:VTIMEZONE
BEGIN:VEVENT
DTSTART;TZID=America/Marigot:20250502T200000
DTEND;TZID=America/Marigot:20250503T030000
DTSTAMP:20260424T160506
CREATED:20250306T092921Z
LAST-MODIFIED:20250307T121018Z
UID:2045-1746216000-1746241200@xtratight.com
SUMMARY:Night Of The Hit Makers 2.0
DESCRIPTION:🎶🔥 Night of the Hit Makers 2.0 – The Ultimate Dance Experience! 🔥🎶 \nGet ready for a night of pure energy\, non-stop dancing\, and unforgettable hits! Night of the Hit Makers 2.0 is bringing you the ultimate Caribbean party with an electrifying lineup that will have you moving all night long! \n💃🏾 Live on Stage:\nArtists To Be Announced \n🎧 On the Decks:\n🎵 CD Rankin & DJ Prince – spinning the best in reggae\, dancehall\, soca\, kompa\, and more! \nIt’s time to dance\, vibe\, and experience the ultimate dance party! 🌴🔥🎶 \nGet Your Tickets Now!
URL:https://xtratight.com/event/night-of-the-hit-makers-2-0-3/
LOCATION:ALEEZE Convention Center\, 117 A.T. Illidge Rd\, Philipsburg\, Sint Maarten
CATEGORIES:Festival
ATTACH;FMTTYPE=image/jpeg:https://xtratight.com/wp-content/uploads/2025/03/Hero-Image-Small-HM2025.jpg
ORGANIZER;CN="Xtratight Entertainment":MAILTO:events@xtratight.com
END:VEVENT
BEGIN:VEVENT
DTSTART;TZID=America/Marigot:20250531T170000
DTEND;TZID=America/Marigot:20250601T020000
DTSTAMP:20260424T160506
CREATED:20250511T031208Z
LAST-MODIFIED:20250511T031208Z
UID:2142-1748710800-1748743200@xtratight.com
SUMMARY:Orris - Volume 01: The Roof Top
DESCRIPTION:Orris presents in collaboration with Xtratight Entertainment presents ORRIS – Volume 01: The Roof Top\nStep into a celebration of music\, art\, and self-expression. Orris is more than an event—it’s a rooftop ritual. For our first edition\, we’re transforming Mimosa Sky Lounge into a mini festival playground—with Coachella-inspired vibes\, immersive visuals\, and feel-good energy from day into night.
URL:https://xtratight.com/event/orris-volume-01-the-roof-top/
LOCATION:Mimosa Sky Lounge\, Maho\, Philipsburg\, Sint Maarten
CATEGORIES:Festival
ATTACH;FMTTYPE=image/jpeg:https://xtratight.com/wp-content/uploads/2025/05/orris-volume01.jpg
ORGANIZER;CN="Orris":MAILTO:jennifer@altus.sx
END:VEVENT
END:VCALENDAR