BEGIN:VCALENDAR
VERSION:2.0
PRODID:-//Xtratight Entertainment - ECPv6.15.12.2//NONSGML v1.0//EN
CALSCALE:GREGORIAN
METHOD:PUBLISH
X-ORIGINAL-URL:https://xtratight.com
X-WR-CALDESC:Events for Xtratight Entertainment
REFRESH-INTERVAL;VALUE=DURATION:PT1H
X-Robots-Tag:noindex
X-PUBLISHED-TTL:PT1H
BEGIN:VTIMEZONE
TZID:America/Marigot
BEGIN:STANDARD
TZOFFSETFROM:-0400
TZOFFSETTO:-0400
TZNAME:AST
DTSTART:20210101T000000
END:STANDARD
END:VTIMEZONE
BEGIN:VEVENT
DTSTART;TZID=America/Marigot:20250330T180000
DTEND;TZID=America/Marigot:20250330T230000
DTSTAMP:20260423T165008
CREATED:20250306T233008Z
LAST-MODIFIED:20250307T110806Z
UID:2067-1743357600-1743375600@xtratight.com
SUMMARY:Shindig Sundayz
DESCRIPTION:Shindig Sundayz Dance with Control Band is an electrifying monthly event hosted by Xtratight Entertainment\, featuring Sint Maartens Nr. 1 Dance band Control Band. Get ready for an unforgettable night experience. Also featuring CD Rankin’  Shindig Sundayz is the ultimate spot to unwind! \nNOTE: No online tickets available only at the door
URL:https://xtratight.com/event/shindig-sundayz-2/
LOCATION:ALEEZE Convention Center\, 117 A.T. Illidge Rd\, Philipsburg\, Sint Maarten
CATEGORIES:Dance Party
ATTACH;FMTTYPE=image/png:https://xtratight.com/wp-content/uploads/2025/03/1.png
ORGANIZER;CN="Xtratight Entertainment":MAILTO:events@xtratight.com
END:VEVENT
BEGIN:VEVENT
DTSTART;TZID=America/Marigot:20250323T110000
DTEND;TZID=America/Marigot:20250323T160000
DTSTAMP:20260423T165008
CREATED:20250306T095008Z
LAST-MODIFIED:20250307T111838Z
UID:2060-1742727600-1742745600@xtratight.com
SUMMARY:The Brunch "Reggae Edition"
DESCRIPTION:Get ready for the ultimate reggae-infused brunch experience on March 23rd! Brunch Reggae Edition brings together good food\, great vibes\, and unlimited mimosas for a laid-back yet energetic celebration. \n🎶 Music By: The one and only CD Rankin\, setting the perfect reggae mood with smooth riddims and classic hits! \n🥂 Unlimited Mimosas to keep the vibes flowing!\n🍽️ Delicious Brunch Selections to satisfy your cravings! \nGather your crew and sip\, vibe\, and brunch to the best reggae tunes! 🌞🎶🥂 \nLimited spots available – book now! 
URL:https://xtratight.com/event/the-brunch-reggae-edition/
LOCATION:ALEEZE Convention Center\, 117 A.T. Illidge Rd\, Philipsburg\, Sint Maarten
CATEGORIES:Brunch
ATTACH;FMTTYPE=image/jpeg:https://xtratight.com/wp-content/uploads/2025/03/pexels-photo-2662875-2662875.jpg
ORGANIZER;CN="Xtratight Entertainment":MAILTO:events@xtratight.com
END:VEVENT
BEGIN:VEVENT
DTSTART;TZID=America/Marigot:20240713T083000
DTEND;TZID=America/Marigot:20240714T030000
DTSTAMP:20260423T165008
CREATED:20240522T095707Z
LAST-MODIFIED:20240522T095707Z
UID:1924-1720859400-1720926000@xtratight.com
SUMMARY:VAYB In Concert
DESCRIPTION:Kompa sensation VAYB former lead singer of the band CARIMI will give a concert filled with grooves and energy for all the  music lovers.
URL:https://xtratight.com/event/vayb-in-concert/
LOCATION:ALEEZE Convention Center\, 117 A.T. Illidge Rd\, Philipsburg\, Sint Maarten
CATEGORIES:Concert
ATTACH;FMTTYPE=image/jpeg:https://xtratight.com/wp-content/uploads/2024/05/Vayb-In-Concert-Social-Media.jpg
ORGANIZER;CN="Xtratight Entertainment":MAILTO:events@xtratight.com
END:VEVENT
BEGIN:VEVENT
DTSTART;TZID=America/Marigot:20240704T170000
DTEND;TZID=America/Marigot:20240801T220000
DTSTAMP:20260423T165008
CREATED:20240522T100328Z
LAST-MODIFIED:20240522T100529Z
UID:1927-1720112400-1722549600@xtratight.com
SUMMARY:KoopAvond (GoLocal Summer Nights)
DESCRIPTION:KoopAvond now know as “GoLocal Summer Nights” is a platform where Sint Maarten’s best vendors\, artists and dj’s showcase their product and talent will creating an energy in Philipsburg for both visitors and residents alike.\nEvent takes place every Thursday starting on July 4th to August 1st.
URL:https://xtratight.com/event/koopavond-golocal-summer-nights/
LOCATION:Philipsburg Boardwalk\, Philipsburh\, Sint Maarten
CATEGORIES:Community
ATTACH;FMTTYPE=image/jpeg:https://xtratight.com/wp-content/uploads/2023/08/67144308_2515289518530637_5470569019658469376_n.jpg
ORGANIZER;CN="Xtratight Entertainment":MAILTO:events@xtratight.com
END:VEVENT
BEGIN:VEVENT
DTSTART;TZID=America/Marigot:20240601T210000
DTEND;TZID=America/Marigot:20240602T030000
DTSTAMP:20260423T165008
CREATED:20240522T095048Z
LAST-MODIFIED:20240522T095048Z
UID:1918-1717275600-1717297200@xtratight.com
SUMMARY:Bogle The Old School Jam
DESCRIPTION:Bogle Old School Jam featuring top Dj’s CD Rankin\, Dj Outkast\, Dj Siw Roo and Mr Rude. Blazing nothing but the best old school hits.
URL:https://xtratight.com/event/bogle-the-old-school-jam/
LOCATION:ALEEZE Convention Center\, 117 A.T. Illidge Rd\, Philipsburg\, Sint Maarten
CATEGORIES:Club Night
ATTACH;FMTTYPE=image/jpeg:https://xtratight.com/wp-content/uploads/2024/05/BOOGLE-OLD-SCHOOL-JUNE-1-Social-Media.jpg
ORGANIZER;CN="Xtratight Entertainment":MAILTO:events@xtratight.com
END:VEVENT
BEGIN:VEVENT
DTSTART;TZID=America/Marigot:20240526T163000
DTEND;TZID=America/Marigot:20240526T200000
DTSTAMP:20260423T165008
CREATED:20240522T095343Z
LAST-MODIFIED:20240522T095401Z
UID:1921-1716741000-1716753600@xtratight.com
SUMMARY:GoLocal.sx Small Business Expo
DESCRIPTION:GoLocal.sx our monthly small business expo is back. Showcasing some of St. Maartens greatest product made in Sint Maarten.
URL:https://xtratight.com/event/golocal-sx-small-business-expo/
LOCATION:ALEEZE Convention Center\, 117 A.T. Illidge Rd\, Philipsburg\, Sint Maarten
CATEGORIES:Expo
ATTACH;FMTTYPE=image/png:https://xtratight.com/wp-content/uploads/2023/08/LOGO-GO-LOCAL-PNG-1.png
ORGANIZER;CN="Xtratight Entertainment":MAILTO:events@xtratight.com
END:VEVENT
BEGIN:VEVENT
DTSTART;TZID=America/Marigot:20240501T210000
DTEND;TZID=America/Marigot:20240502T030000
DTSTAMP:20260423T165008
CREATED:20240322T103701Z
LAST-MODIFIED:20240322T103701Z
UID:1871-1714597200-1714618800@xtratight.com
SUMMARY:Night Of The Hit Makers 2.0
DESCRIPTION:
URL:https://xtratight.com/event/night-of-the-hit-makers-2-0-2/
LOCATION:ALEEZE Convention Center\, 117 A.T. Illidge Rd\, Philipsburg\, Sint Maarten
CATEGORIES:Festival
ATTACH;FMTTYPE=image/jpeg:https://xtratight.com/wp-content/uploads/2024/03/HitMakers-Flyer-Social-Media.jpg
ORGANIZER;CN="Xtratight Entertainment":MAILTO:events@xtratight.com
END:VEVENT
BEGIN:VEVENT
DTSTART;TZID=America/Marigot:20240430T210000
DTEND;TZID=America/Marigot:20240501T030000
DTSTAMP:20260423T165008
CREATED:20240229T215544Z
LAST-MODIFIED:20240322T103806Z
UID:1856-1714510800-1714532400@xtratight.com
SUMMARY:Night Of The Hit Makers 2.0
DESCRIPTION:Two nights of pulsating hits at ALEEZE Convention Center April 30th & May 1st
URL:https://xtratight.com/event/night-of-the-hit-makers-2-0/
LOCATION:ALEEZE Convention Center\, 117 A.T. Illidge Rd\, Philipsburg\, Sint Maarten
CATEGORIES:Festival
ATTACH;FMTTYPE=image/jpeg:https://xtratight.com/wp-content/uploads/2024/03/HitMakers-Flyer-Social-Media.jpg
ORGANIZER;CN="Xtratight Entertainment":MAILTO:events@xtratight.com
END:VEVENT
BEGIN:VEVENT
DTSTART;TZID=America/Marigot:20240413T210000
DTEND;TZID=America/Marigot:20240414T010000
DTSTAMP:20260423T165008
CREATED:20240322T103447Z
LAST-MODIFIED:20240322T103447Z
UID:1868-1713042000-1713056400@xtratight.com
SUMMARY:Jazz N' Rhythms Concert
DESCRIPTION:Jazz Convert
URL:https://xtratight.com/event/jazz-n-rhythms-concert/
LOCATION:ALEEZE Convention Center\, 117 A.T. Illidge Rd\, Philipsburg\, Sint Maarten
CATEGORIES:Concert
ATTACH;FMTTYPE=image/jpeg:https://xtratight.com/wp-content/uploads/2024/03/Jazz_Flyer-Social-MEdia-F1.jpg
ORGANIZER;CN="Xtratight Entertainment":MAILTO:events@xtratight.com
END:VEVENT
BEGIN:VEVENT
DTSTART;TZID=America/Marigot:20240330T210000
DTEND;TZID=America/Marigot:20240331T030000
DTSTAMP:20260423T165008
CREATED:20240322T101236Z
LAST-MODIFIED:20240322T101236Z
UID:1865-1711832400-1711854000@xtratight.com
SUMMARY:Peperseed Old School Jam
DESCRIPTION:Peperseed\, the Old School Jam. Featuring Dj Wilson\, Dave Nice\, Mixin Clinic\, Jack Da Hot On and Dj Fabulous. Hosted by Uncle Shadz. Ladies free entrance until 11pm. $10 before 12 midnight and $15 after.
URL:https://xtratight.com/event/peperseed-old-school-jam/
LOCATION:ALEEZE Convention Center\, 117 A.T. Illidge Rd\, Philipsburg\, Sint Maarten
CATEGORIES:Dance Party
ATTACH;FMTTYPE=image/jpeg:https://xtratight.com/wp-content/uploads/2024/03/Old-School-Jam-Pepperseed-Final-II.jpg
ORGANIZER;CN="Xtratight Entertainment":MAILTO:events@xtratight.com
END:VEVENT
BEGIN:VEVENT
DTSTART;TZID=America/Marigot:20240303T180000
DTEND;TZID=America/Marigot:20240303T233000
DTSTAMP:20260423T165008
CREATED:20240229T221536Z
LAST-MODIFIED:20240229T221950Z
UID:1860-1709488800-1709508600@xtratight.com
SUMMARY:Shindig Sundayz
DESCRIPTION:Sunday dance party featuring Control Band & Mr. Rude
URL:https://xtratight.com/event/shindig-sundayz/
LOCATION:ALEEZE Convention Center\, 117 A.T. Illidge Rd\, Philipsburg\, Sint Maarten
ATTACH;FMTTYPE=image/png:https://xtratight.com/wp-content/uploads/2024/02/Shindig-sunday-Mar-3-QP.png
ORGANIZER;CN="Xtratight Entertainment":MAILTO:events@xtratight.com
END:VEVENT
BEGIN:VEVENT
DTSTART;TZID=America/Marigot:20230610T210000
DTEND;TZID=America/Marigot:20230611T030000
DTSTAMP:20260423T165008
CREATED:20230607T022341Z
LAST-MODIFIED:20230607T022658Z
UID:1794-1686430800-1686452400@xtratight.com
SUMMARY:Fyah Under Yuh Foot "Pre Father's Day Edition"
DESCRIPTION:Ladies…It’s time to celebrate our Men!\nOn Saturday June 10th 2023 at Aleeze Convention Center and Event Hall!\n\n\nIt’s Fyah Under Yuh Foot\n” Pre – Father’s Day Edition “\n\n\nDress Code Black Tie And Jeans!\n\n\nPulsating Hits after Hits by your renown deejays.\n\n\nDeejB lackBoy // DJ Chubs // Mr. Rude\n\n\nEntrance is only $10 before midnight and $15 after\n\n\nSee you there!
URL:https://xtratight.com/event/fyah-under-yuh-foot-pre-fathers-day-edition/
LOCATION:ALEEZE Convention Center\, 117 A.T. Illidge Rd\, Philipsburg\, Sint Maarten
CATEGORIES:Dance Party
ATTACH;FMTTYPE=image/png:https://xtratight.com/wp-content/uploads/2022/01/fyah-under-yuh-foot-LOGO.png
ORGANIZER;CN="Xtratight Entertainment":MAILTO:events@xtratight.com
END:VEVENT
BEGIN:VEVENT
DTSTART;TZID=America/Marigot:20220430T200000
DTEND;TZID=America/Marigot:20220501T030000
DTSTAMP:20260423T165008
CREATED:20220205T203007Z
LAST-MODIFIED:20220205T204559Z
UID:1658-1651348800-1651374000@xtratight.com
SUMMARY:Night Of The Hit Makers
DESCRIPTION:Promoted as a premier Carnival attraction\, St. Maarten Carnival Flagship Show Night Of The Hit Makers is an event that bring together an ensemble of highly acclaimed and distinguished Caribbean Hit Makers for an unforgettable evening of fun and entertainment.
URL:https://xtratight.com/event/night-of-the-hit-makers/
LOCATION:Jocelyn Arrindell Festival Village\, Soualiga Road\, Philipsburg\, Sint Maarten
CATEGORIES:Festival
ATTACH;FMTTYPE=image/jpeg:https://xtratight.com/wp-content/uploads/2022/02/N.O.H.M.-190426-0683_Edit-scaled.jpg
ORGANIZER;CN="Xtratight Entertainment":MAILTO:events@xtratight.com
END:VEVENT
BEGIN:VEVENT
DTSTART;TZID=America/Marigot:20220428T200000
DTEND;TZID=America/Marigot:20220429T010000
DTSTAMP:20260423T165008
CREATED:20220205T231223Z
LAST-MODIFIED:20220205T231223Z
UID:1675-1651176000-1651194000@xtratight.com
SUMMARY:The Groove
DESCRIPTION:TelEm in collaboration with Xtratight Entertainment is proud to present\, “The Groove”\, a new Groovy Soca Competition to be held during St. Maarten carnival. The Groove winner will receive TEN THOUSAND US DOLLARS accompanied with a professional MUSIC VIDEO for the winning song.
URL:https://xtratight.com/event/the-groove/
LOCATION:Jocelyn Arrindell Festival Village\, Soualiga Road\, Philipsburg\, Sint Maarten
CATEGORIES:Competition
ATTACH;FMTTYPE=image/jpeg:https://xtratight.com/wp-content/uploads/2022/01/THE-GOOVE-TOP-BANNER-3.jpg
ORGANIZER;CN="Xtratight Entertainment":MAILTO:events@xtratight.com
END:VEVENT
BEGIN:VEVENT
DTSTART;TZID=America/Marigot:20220217T170000
DTEND;TZID=America/Marigot:20220218T000000
DTSTAMP:20260423T165008
CREATED:20220205T214122Z
LAST-MODIFIED:20220205T230057Z
UID:1661-1645117200-1645142400@xtratight.com
SUMMARY:Pure Reggae
DESCRIPTION:Pure Reggae is an event that is be based around reggae music\, which is one of the most popular music genres in the world. The event will be held under the theme Peace – Love – Unity.
URL:https://xtratight.com/event/pure-reggae/
LOCATION:The Cocky Turtle\, Kimsha Beach\, Simpsonbay\, Sint Maarten
CATEGORIES:Gathering
ATTACH;FMTTYPE=image/jpeg:https://xtratight.com/wp-content/uploads/2022/02/edited-re.jpg
ORGANIZER;CN="Xtratight Entertainment":MAILTO:events@xtratight.com
END:VEVENT
END:VCALENDAR