BEGIN:VCALENDAR
VERSION:2.0
PRODID:-//Xtratight Entertainment - ECPv6.15.12.2//NONSGML v1.0//EN
CALSCALE:GREGORIAN
METHOD:PUBLISH
X-WR-CALNAME:Xtratight Entertainment
X-ORIGINAL-URL:https://xtratight.com
X-WR-CALDESC:Events for Xtratight Entertainment
REFRESH-INTERVAL;VALUE=DURATION:PT1H
X-Robots-Tag:noindex
X-PUBLISHED-TTL:PT1H
BEGIN:VTIMEZONE
TZID:America/Marigot
BEGIN:STANDARD
TZOFFSETFROM:-0400
TZOFFSETTO:-0400
TZNAME:AST
DTSTART:20240101T000000
END:STANDARD
END:VTIMEZONE
BEGIN:VEVENT
DTSTART;TZID=America/Marigot:20250427T190000
DTEND;TZID=America/Marigot:20250428T020000
DTSTAMP:20260424T115025
CREATED:20250301T022923Z
LAST-MODIFIED:20250307T111137Z
UID:1975-1745780400-1745805600@xtratight.com
SUMMARY:HEADLINERS "Roots & Riddims"
DESCRIPTION:Get ready for an unforgettable night of music\, rhythm\, and pure island energy! Roots & Riddims brings you an electrifying lineup of reggae superstars\, featuring the legendary Tanya Stephens\, the dynamic duo Tanto Metro & Devonte\, the conscious sounds of Richie Spice\, and the smooth vocals of Christopher Martin! \nAdding local flavor to the stage is Royalty\, alongside the high-energy performances of CD Rankin. Keeping the vibes alive all night are the masters of the decks\, DJ Outkast and Deej Blaze\, spinning the hottest reggae\, dancehall\, and soca beats! \n🎶 Roots. Culture. Vibes. 🎶\nThis is more than a concert—it’s a celebration of reggae music in its truest form. Whether you’re a longtime reggae lover or just looking for an unforgettable experience\, Roots & Riddims is the place to be! \nDon’t miss this night of irie vibes and unforgettable performances! 🔥🎤🌿 \nGet Your Tickets Now!
URL:https://xtratight.com/event/headliners-roots-riddims/
LOCATION:Jocelyn Arrindell Festival Village\, Soualiga Road\, Philipsburg\, Sint Maarten
CATEGORIES:Festival
ATTACH;FMTTYPE=image/jpeg:https://xtratight.com/wp-content/uploads/2025/02/Hero-Image-Small.jpg
ORGANIZER;CN="Xtratight Entertainment":MAILTO:events@xtratight.com
END:VEVENT
END:VCALENDAR